BEGIN:VCALENDAR
VERSION:2.0
PRODID:-//Center for Biomedical System Design - ECPv5.16.3.1//NONSGML v1.0//EN
CALSCALE:GREGORIAN
METHOD:PUBLISH
X-WR-CALNAME:Center for Biomedical System Design
X-ORIGINAL-URL:https://newdigs.tuftsmedicalcenter.org
X-WR-CALDESC:Events for Center for Biomedical System Design
BEGIN:VTIMEZONE
TZID:UTC
BEGIN:STANDARD
TZOFFSETFROM:+0000
TZOFFSETTO:+0000
TZNAME:UTC
DTSTART:20180101T000000
END:STANDARD
END:VTIMEZONE
BEGIN:VEVENT
DTSTART;VALUE=DATE:20181022
DTEND;VALUE=DATE:20181025
DTSTAMP:20260421T214858
CREATED:20181116T133212Z
LAST-MODIFIED:20181116T133951Z
UID:943-1540166400-1540425599@newdigs.tuftsmedicalcenter.org
SUMMARY:Milken Institute Future of Health Summit 2018
DESCRIPTION:Mark Trusheim\, for NEWDIGS \nMore information here.
URL:https://newdigs.tuftsmedicalcenter.org/event/milken-institute-future-of-health-summit-2018/
CATEGORIES:Conference,Speaking Engagement
END:VEVENT
END:VCALENDAR