BEGIN:VCALENDAR
VERSION:2.0
PRODID:-//Center for Biomedical System Design - ECPv5.16.3.1//NONSGML v1.0//EN
CALSCALE:GREGORIAN
METHOD:PUBLISH
X-WR-CALNAME:Center for Biomedical System Design
X-ORIGINAL-URL:https://newdigs.tuftsmedicalcenter.org
X-WR-CALDESC:Events for Center for Biomedical System Design
BEGIN:VTIMEZONE
TZID:UTC
BEGIN:STANDARD
TZOFFSETFROM:+0000
TZOFFSETTO:+0000
TZNAME:UTC
DTSTART:20220101T000000
END:STANDARD
END:VTIMEZONE
BEGIN:VEVENT
DTSTART;VALUE=DATE:20220208
DTEND;VALUE=DATE:20220209
DTSTAMP:20260423T142634
CREATED:20220608T225848Z
LAST-MODIFIED:20220608T225848Z
UID:1769-1644278400-1644364799@newdigs.tuftsmedicalcenter.org
SUMMARY:IBA Webinar: Global Regulatory Challenges of CAR T cell Therapies
DESCRIPTION:Mark Trusheim for FoCUS.
URL:https://newdigs.tuftsmedicalcenter.org/event/iba-webinar-global-regulatory-challenges-of-car-t-cell-therapies/
LOCATION:Online\, MD
CATEGORIES:Speaking Engagement
END:VEVENT
END:VCALENDAR