BEGIN:VCALENDAR
VERSION:2.0
PRODID:-//Center for Biomedical System Design - ECPv5.16.3.1//NONSGML v1.0//EN
CALSCALE:GREGORIAN
METHOD:PUBLISH
X-WR-CALNAME:Center for Biomedical System Design
X-ORIGINAL-URL:https://newdigs.tuftsmedicalcenter.org
X-WR-CALDESC:Events for Center for Biomedical System Design
BEGIN:VTIMEZONE
TZID:UTC
BEGIN:STANDARD
TZOFFSETFROM:+0000
TZOFFSETTO:+0000
TZNAME:UTC
DTSTART:20180101T000000
END:STANDARD
END:VTIMEZONE
BEGIN:VEVENT
DTSTART;VALUE=DATE:20181212
DTEND;VALUE=DATE:20181213
DTSTAMP:20260423T084124
CREATED:20181116T133218Z
LAST-MODIFIED:20181116T134526Z
UID:946-1544572800-1544659199@newdigs.tuftsmedicalcenter.org
SUMMARY:BioMAN Summit
DESCRIPTION:Casey Quinn will present FoCUS learnings at the MIT Center for Biomedical Innovation’s BioMANufacturing Program Summit
URL:https://newdigs.tuftsmedicalcenter.org/event/bioman-summit/
CATEGORIES:Conference,Speaking Engagement
END:VEVENT
END:VCALENDAR