BEGIN:VCALENDAR
VERSION:2.0
PRODID:-//Center for Biomedical System Design - ECPv5.16.3.1//NONSGML v1.0//EN
CALSCALE:GREGORIAN
METHOD:PUBLISH
X-WR-CALNAME:Center for Biomedical System Design
X-ORIGINAL-URL:https://newdigs.tuftsmedicalcenter.org
X-WR-CALDESC:Events for Center for Biomedical System Design
BEGIN:VTIMEZONE
TZID:UTC
BEGIN:STANDARD
TZOFFSETFROM:+0000
TZOFFSETTO:+0000
TZNAME:UTC
DTSTART:20150101T000000
END:STANDARD
END:VTIMEZONE
BEGIN:VEVENT
DTSTART;TZID=UTC:20151028T000000
DTEND;TZID=UTC:20151028T000000
DTSTAMP:20260425T130505
CREATED:20180928T145122Z
LAST-MODIFIED:20180928T145122Z
UID:581-1445990400-1445990400@newdigs.tuftsmedicalcenter.org
SUMMARY:Better Science\, Better Health: Gigi Hirsch speaks on panel “Next Generation Innovations in Regulatory Science”
DESCRIPTION:Gigi Hirsch\, Executive Director\, MIT Center for Biomedical Innovation; Program Director\, NEWDIGS\, speaks at the Washington D.C. “Better Science\, Better Health: New Healthcare Models” Conference on 28th October.
URL:https://newdigs.tuftsmedicalcenter.org/event/better-science-better-health-gigi-hirsch-speaks-on-panel-next-generation-innovations-in-regulatory-science/
CATEGORIES:Speaking Engagement
END:VEVENT
END:VCALENDAR