BEGIN:VCALENDAR
VERSION:2.0
PRODID:-//Center for Biomedical System Design - ECPv5.16.3.1//NONSGML v1.0//EN
CALSCALE:GREGORIAN
METHOD:PUBLISH
X-WR-CALNAME:Center for Biomedical System Design
X-ORIGINAL-URL:https://newdigs.tuftsmedicalcenter.org
X-WR-CALDESC:Events for Center for Biomedical System Design
BEGIN:VTIMEZONE
TZID:UTC
BEGIN:STANDARD
TZOFFSETFROM:+0000
TZOFFSETTO:+0000
TZNAME:UTC
DTSTART:20160101T000000
END:STANDARD
END:VTIMEZONE
BEGIN:VEVENT
DTSTART;TZID=UTC:20160421T000000
DTEND;TZID=UTC:20160422T000000
DTSTAMP:20260425T230213
CREATED:20180928T145107Z
LAST-MODIFIED:20180928T145107Z
UID:566-1461196800-1461283200@newdigs.tuftsmedicalcenter.org
SUMMARY:Belgian Healthcare Knowledge Center (HKC) & WHO jointly sponsored Drug Pricing Scenarios Project – Part 2 (Mark Trusheim).
DESCRIPTION:
URL:https://newdigs.tuftsmedicalcenter.org/event/belgian-healthcare-knowledge-center-hkc-who-jointly-sponsored-drug-pricing-scenarios-project-part-2-mark-trusheim/
CATEGORIES:Speaking Engagement
END:VEVENT
END:VCALENDAR