BEGIN:VCALENDAR
VERSION:2.0
PRODID:-//Center for Biomedical System Design - ECPv5.16.3.1//NONSGML v1.0//EN
CALSCALE:GREGORIAN
METHOD:PUBLISH
X-WR-CALNAME:Center for Biomedical System Design
X-ORIGINAL-URL:https://newdigs.tuftsmedicalcenter.org
X-WR-CALDESC:Events for Center for Biomedical System Design
BEGIN:VTIMEZONE
TZID:UTC
BEGIN:STANDARD
TZOFFSETFROM:+0000
TZOFFSETTO:+0000
TZNAME:UTC
DTSTART:20210101T000000
END:STANDARD
END:VTIMEZONE
BEGIN:VEVENT
DTSTART;VALUE=DATE:20210620
DTEND;VALUE=DATE:20210622
DTSTAMP:20260421T221944
CREATED:20220608T223340Z
LAST-MODIFIED:20220608T223340Z
UID:1744-1624147200-1624319999@newdigs.tuftsmedicalcenter.org
SUMMARY:BCBSA 2021 Specialty Pharmacy Conference
DESCRIPTION:Mark Trusheim participated in the BCBSA 2021 Specialty Pharmacy Conference on July 20–21.
URL:https://newdigs.tuftsmedicalcenter.org/event/bcbsa-2021-specialty-pharmacy-conference/
LOCATION:Online\, MD
CATEGORIES:Conference,Speaking Engagement
END:VEVENT
END:VCALENDAR