BEGIN:VCALENDAR
VERSION:2.0
PRODID:-//Center for Biomedical System Design - ECPv5.16.3.1//NONSGML v1.0//EN
CALSCALE:GREGORIAN
METHOD:PUBLISH
X-WR-CALNAME:Center for Biomedical System Design
X-ORIGINAL-URL:https://newdigs.tuftsmedicalcenter.org
X-WR-CALDESC:Events for Center for Biomedical System Design
BEGIN:VTIMEZONE
TZID:UTC
BEGIN:STANDARD
TZOFFSETFROM:+0000
TZOFFSETTO:+0000
TZNAME:UTC
DTSTART:20190101T000000
END:STANDARD
END:VTIMEZONE
BEGIN:VEVENT
DTSTART;VALUE=DATE:20190504
DTEND;VALUE=DATE:20190505
DTSTAMP:20260421T215317
CREATED:20190524T204950Z
LAST-MODIFIED:20200212T211526Z
UID:1189-1556928000-1557014399@newdigs.tuftsmedicalcenter.org
SUMMARY:American Society of Pediatric Hematology/Oncology (ASPHO) Symposium
DESCRIPTION:Mark Trusheim for FoCUS
URL:https://newdigs.tuftsmedicalcenter.org/event/american-society-of-pediatric-hematology-oncology-aspho-symposium-2/
CATEGORIES:Conference
END:VEVENT
END:VCALENDAR